BEGIN:VCALENDAR
VERSION:2.0
PRODID:-//3nity.com//3nity CMS//EN
BEGIN:VEVENT
SUMMARY:Quarter 2 Business Meeting
UID:2026-07-18-1199081@www.laveenbaptistchurch.org
SEQUENCE:0
STATUS:CONFIRMED
DTSTART:20260426T113000
DTEND:20260426T123000
DTSTAMP:20161222T120000
DESCRIPTION:Meeting will be held in Sanctuary
URL:http://www.laveenbaptistchurch.org
END:VEVENT
END:VCALENDAR
