BEGIN:VCALENDAR
VERSION:2.0
PRODID:-//3nity.com//3nity CMS//EN
BEGIN:VEVENT
SUMMARY:Crafting in Ruth's Footprints
UID:2026-07-18-1199065@www.laveenbaptistchurch.org
SEQUENCE:0
STATUS:CONFIRMED
DTSTART:20260428T093000
DTEND:20260428T113000
DTSTAMP:20161222T120000
DESCRIPTION:Held in Building B, Room 2
URL:http://www.laveenbaptistchurch.org
END:VEVENT
END:VCALENDAR
