BEGIN:VCALENDAR
VERSION:2.0
PRODID:-//3nity.com//3nity CMS//EN
BEGIN:VEVENT
SUMMARY:Youth Bible Study
UID:2026-07-18-1198565@www.laveenbaptistchurch.org
SEQUENCE:0
STATUS:CONFIRMED
DTSTART:20260422T180000
DTEND:20260422T200000
DTSTAMP:20161222T120000
DESCRIPTION:Youth meet in Building C
URL:http://www.laveenbaptistchurch.org
END:VEVENT
END:VCALENDAR
