BEGIN:VCALENDAR
VERSION:2.0
PRODID:-//3nity.com//3nity CMS//EN
BEGIN:VEVENT
SUMMARY:Adventure Club
UID:2024-07-16-1119403@www.laveenbaptistchurch.org
SEQUENCE:0
STATUS:CONFIRMED
DTSTART:20241204T180000
DTEND:20241204T200000
DTSTAMP:20161222T120000
DESCRIPTION:Adventure Club is our new Bible Study for 3 year olds to 6th Graders.
URL:http://www.laveenbaptistchurch.org
END:VEVENT
END:VCALENDAR
